Package: gwascat Version: 2.34.0 Command: /Library/Frameworks/R.framework/Resources/bin/R CMD INSTALL gwascat StartedAt: 2024-03-03 15:44:44 -0500 (Sun, 03 Mar 2024) EndedAt: 2024-03-03 15:46:05 -0500 (Sun, 03 Mar 2024) EllapsedTime: 80.7 seconds RetCode: 0 Status: OK