Package: gtrellis Version: 1.34.0 Command: chmod a+r gtrellis -R && F:\biocbuild\bbs-3.18-bioc\R\bin\R.exe CMD build --keep-empty-dirs --no-resave-data gtrellis StartedAt: 2024-04-15 18:57:40 -0400 (Mon, 15 Apr 2024) EndedAt: 2024-04-15 19:00:46 -0400 (Mon, 15 Apr 2024) EllapsedTime: 186.8 seconds RetCode: 0 Status: OK PackageFile: gtrellis_1.34.0.tar.gz PackageFileSize: 1.406 MiB