Package: gsean Version: 1.22.0 Command: /home/biocbuild/bbs-3.18-bioc/R/bin/R CMD check --install=check:gsean.install-out.txt --library=/home/biocbuild/bbs-3.18-bioc/R/site-library --timings gsean_1.22.0.tar.gz StartedAt: 2024-04-15 23:33:02 -0400 (Mon, 15 Apr 2024) EndedAt: 2024-04-15 23:37:52 -0400 (Mon, 15 Apr 2024) EllapsedTime: 289.2 seconds RetCode: 0 Status: OK CheckDir: gsean.Rcheck Warnings: 0