Package: gsean Version: 1.22.0 Command: /home/biocbuild/bbs-3.18-bioc/R/bin/R CMD build --keep-empty-dirs --no-resave-data gsean StartedAt: 2024-04-15 17:25:54 -0400 (Mon, 15 Apr 2024) EndedAt: 2024-04-15 17:27:01 -0400 (Mon, 15 Apr 2024) EllapsedTime: 66.3 seconds RetCode: 0 Status: OK PackageFile: gsean_1.22.0.tar.gz PackageFileSize: 1.535 MiB