Package: gsean Version: 1.22.0 Command: /Library/Frameworks/R.framework/Resources/bin/R CMD check --install=check:gsean.install-out.txt --library=/Library/Frameworks/R.framework/Resources/library --no-vignettes --timings gsean_1.22.0.tar.gz StartedAt: 2024-04-16 03:45:11 -0400 (Tue, 16 Apr 2024) EndedAt: 2024-04-16 03:51:43 -0400 (Tue, 16 Apr 2024) EllapsedTime: 391.9 seconds RetCode: 0 Status: OK CheckDir: gsean.Rcheck Warnings: 0