Package: gsean Version: 1.22.0 Command: /home/biocbuild/R/R-4.3.1/bin/R CMD INSTALL gsean StartedAt: 2023-11-01 20:48:25 -0000 (Wed, 01 Nov 2023) EndedAt: 2023-11-01 20:48:59 -0000 (Wed, 01 Nov 2023) EllapsedTime: 34.5 seconds RetCode: 0 Status: OK