Package: gsean Version: 1.22.0 Command: /home/biocbuild/R/R-4.3.1/bin/R CMD build --keep-empty-dirs --no-resave-data gsean StartedAt: 2023-11-02 01:54:05 -0000 (Thu, 02 Nov 2023) EndedAt: 2023-11-02 01:55:29 -0000 (Thu, 02 Nov 2023) EllapsedTime: 83.3 seconds RetCode: 0 Status: OK PackageFile: gsean_1.22.0.tar.gz PackageFileSize: 2.118 MiB