Package: graphite Version: 1.48.0 Command: /home/biocbuild/R/R-4.3.1/bin/R CMD build --keep-empty-dirs --no-resave-data graphite StartedAt: 2023-11-02 01:50:11 -0000 (Thu, 02 Nov 2023) EndedAt: 2023-11-02 01:51:21 -0000 (Thu, 02 Nov 2023) EllapsedTime: 70.1 seconds RetCode: 0 Status: OK PackageFile: graphite_1.48.0.tar.gz PackageFileSize: 755.6 KiB