Package: granulator Version: 1.10.0 Command: rm -rf granulator.buildbin-libdir && mkdir granulator.buildbin-libdir && /Users/biocbuild/BBS/utils/build-universal.sh granulator_1.10.0.tar.gz /Library/Frameworks/R.framework/Resources/bin/R granulator.buildbin-libdir StartedAt: 2024-03-04 00:44:28 -0500 (Mon, 04 Mar 2024) EndedAt: 2024-03-04 00:44:47 -0500 (Mon, 04 Mar 2024) EllapsedTime: 19.4 seconds RetCode: 0 Status: OK PackageFile: granulator_1.10.0.tgz PackageFileSize: 1.285 MiB