Package: gpuMagic Version: 1.18.0 Command: /home/biocbuild/bbs-3.18-bioc/R/bin/R CMD build --keep-empty-dirs --no-resave-data gpuMagic StartedAt: 2024-04-15 17:22:54 -0400 (Mon, 15 Apr 2024) EndedAt: 2024-04-15 17:23:28 -0400 (Mon, 15 Apr 2024) EllapsedTime: 34.3 seconds RetCode: 0 Status: OK PackageFile: gpuMagic_1.18.0.tar.gz PackageFileSize: 736.9 KiB