Package: gpls Version: 1.74.0 Command: rm -rf gpls.buildbin-libdir && mkdir gpls.buildbin-libdir && F:\biocbuild\bbs-3.18-bioc\R\bin\R.exe CMD INSTALL --build --library=gpls.buildbin-libdir gpls_1.74.0.tar.gz StartedAt: 2024-04-16 07:06:30 -0400 (Tue, 16 Apr 2024) EndedAt: 2024-04-16 07:06:36 -0400 (Tue, 16 Apr 2024) EllapsedTime: 5.5 seconds RetCode: 0 Status: OK PackageFile: gpls_1.74.0.zip PackageFileSize: 167.5 KiB