Package: gpls Version: 1.74.0 Command: rm -rf gpls.buildbin-libdir && mkdir gpls.buildbin-libdir && /Users/biocbuild/BBS/utils/build-universal.sh gpls_1.74.0.tar.gz /Library/Frameworks/R.framework/Resources/bin/R gpls.buildbin-libdir StartedAt: 2024-04-16 11:53:03 -0400 (Tue, 16 Apr 2024) EndedAt: 2024-04-16 11:53:10 -0400 (Tue, 16 Apr 2024) EllapsedTime: 7.6 seconds RetCode: 0 Status: OK PackageFile: gpls_1.74.0.tgz PackageFileSize: 294.6 KiB