Package: gmoviz Version: 1.14.0 Command: /home/biocbuild/bbs-3.18-bioc/R/bin/R CMD check --install=check:gmoviz.install-out.txt --library=/home/biocbuild/bbs-3.18-bioc/R/site-library --timings gmoviz_1.14.0.tar.gz StartedAt: 2024-04-15 23:21:54 -0400 (Mon, 15 Apr 2024) EndedAt: 2024-04-15 23:28:57 -0400 (Mon, 15 Apr 2024) EllapsedTime: 422.7 seconds RetCode: 1 Status: ERROR CheckDir: gmoviz.Rcheck Warnings: NA