Package: gmoviz Version: 1.14.0 Command: /Library/Frameworks/R.framework/Resources/bin/R CMD INSTALL gmoviz StartedAt: 2024-04-15 15:58:21 -0400 (Mon, 15 Apr 2024) EndedAt: 2024-04-15 15:59:38 -0400 (Mon, 15 Apr 2024) EllapsedTime: 77.7 seconds RetCode: 0 Status: OK