Package: gmoviz Version: 1.14.0 Command: /Library/Frameworks/R.framework/Resources/bin/R CMD build --keep-empty-dirs --no-resave-data gmoviz StartedAt: 2024-03-03 16:54:33 -0500 (Sun, 03 Mar 2024) EndedAt: 2024-03-03 16:56:40 -0500 (Sun, 03 Mar 2024) EllapsedTime: 127.3 seconds RetCode: 0 Status: OK PackageFile: gmoviz_1.14.0.tar.gz PackageFileSize: 4.286 MiB