Package: gmapR Version: 1.44.0 Command: /Library/Frameworks/R.framework/Resources/bin/R CMD INSTALL gmapR StartedAt: 2024-03-03 15:21:34 -0500 (Sun, 03 Mar 2024) EndedAt: 2024-03-03 15:31:07 -0500 (Sun, 03 Mar 2024) EllapsedTime: 573.1 seconds RetCode: 0 Status: OK