Package: gmapR Version: 1.44.0 Command: /home/biocbuild/R/R-4.3.1/bin/R CMD INSTALL gmapR StartedAt: 2023-11-01 20:29:38 -0000 (Wed, 01 Nov 2023) EndedAt: 2023-11-01 20:39:23 -0000 (Wed, 01 Nov 2023) EllapsedTime: 585.7 seconds RetCode: 0 Status: OK