Package: gmapR Version: 1.44.0 Command: /home/biocbuild/R/R-4.3.1/bin/R CMD check --install=check:gmapR.install-out.txt --library=/home/biocbuild/R/R-4.3.1/site-library --no-vignettes --timings gmapR_1.44.0.tar.gz StartedAt: 2023-11-02 11:00:44 -0000 (Thu, 02 Nov 2023) EndedAt: 2023-11-02 11:09:40 -0000 (Thu, 02 Nov 2023) EllapsedTime: 536.0 seconds RetCode: 0 Status: WARNINGS CheckDir: gmapR.Rcheck Warnings: 7