Package: globaltest Version: 5.56.0 Command: chmod a+r globaltest -R && F:\biocbuild\bbs-3.18-bioc\R\bin\R.exe CMD build --keep-empty-dirs --no-resave-data globaltest StartedAt: 2024-04-15 18:48:52 -0400 (Mon, 15 Apr 2024) EndedAt: 2024-04-15 18:51:20 -0400 (Mon, 15 Apr 2024) EllapsedTime: 147.6 seconds RetCode: 0 Status: OK PackageFile: globaltest_5.56.0.tar.gz PackageFileSize: 563.5 KiB