Package: globaltest Version: 5.56.0 Command: rm -rf globaltest.buildbin-libdir && mkdir globaltest.buildbin-libdir && F:\biocbuild\bbs-3.18-bioc\R\bin\R.exe CMD INSTALL --build --library=globaltest.buildbin-libdir globaltest_5.56.0.tar.gz StartedAt: 2024-04-16 07:05:44 -0400 (Tue, 16 Apr 2024) EndedAt: 2024-04-16 07:06:20 -0400 (Tue, 16 Apr 2024) EllapsedTime: 35.9 seconds RetCode: 0 Status: OK PackageFile: globaltest_5.56.0.zip PackageFileSize: 1.131 MiB