Package: globaltest Version: 5.56.0 Command: /home/biocbuild/bbs-3.18-bioc/R/bin/R CMD check --install=check:globaltest.install-out.txt --library=/home/biocbuild/bbs-3.18-bioc/R/site-library --timings globaltest_5.56.0.tar.gz StartedAt: 2024-04-15 23:20:52 -0400 (Mon, 15 Apr 2024) EndedAt: 2024-04-15 23:26:18 -0400 (Mon, 15 Apr 2024) EllapsedTime: 326.4 seconds RetCode: 0 Status: OK CheckDir: globaltest.Rcheck Warnings: 0