Package: globaltest Version: 5.56.0 Command: /home/biocbuild/bbs-3.18-bioc/R/bin/R CMD build --keep-empty-dirs --no-resave-data globaltest StartedAt: 2024-04-15 17:18:44 -0400 (Mon, 15 Apr 2024) EndedAt: 2024-04-15 17:20:46 -0400 (Mon, 15 Apr 2024) EllapsedTime: 122.0 seconds RetCode: 0 Status: OK PackageFile: globaltest_5.56.0.tar.gz PackageFileSize: 558.8 KiB