Package: globaltest Version: 5.56.0 Command: /home/biocbuild/R/R-4.3.1/bin/R CMD INSTALL globaltest StartedAt: 2023-11-01 20:47:23 -0000 (Wed, 01 Nov 2023) EndedAt: 2023-11-01 20:47:57 -0000 (Wed, 01 Nov 2023) EllapsedTime: 33.8 seconds RetCode: 0 Status: OK