Package: globaltest Version: 5.56.0 Command: /home/biocbuild/R/R-4.3.1/bin/R CMD build --keep-empty-dirs --no-resave-data globaltest StartedAt: 2023-11-02 01:38:57 -0000 (Thu, 02 Nov 2023) EndedAt: 2023-11-02 01:42:24 -0000 (Thu, 02 Nov 2023) EllapsedTime: 206.3 seconds RetCode: 0 Status: OK PackageFile: globaltest_5.56.0.tar.gz PackageFileSize: 549.3 KiB