Package: glmGamPoi Version: 1.14.0 Command: /home/biocbuild/R/R-4.3.1/bin/R CMD build --keep-empty-dirs --no-resave-data glmGamPoi StartedAt: 2023-11-02 01:38:13 -0000 (Thu, 02 Nov 2023) EndedAt: 2023-11-02 02:18:14 -0000 (Thu, 02 Nov 2023) EllapsedTime: 2400.3 seconds RetCode: None Status: TIMEOUT PackageFile: None PackageFileSize: NA