Package: girafe Version: 1.54.0 Command: /Library/Frameworks/R.framework/Resources/bin/R CMD build --keep-empty-dirs --no-resave-data girafe StartedAt: 2024-04-15 19:01:18 -0400 (Mon, 15 Apr 2024) EndedAt: 2024-04-15 19:03:45 -0400 (Mon, 15 Apr 2024) EllapsedTime: 146.8 seconds RetCode: 0 Status: OK PackageFile: girafe_1.54.0.tar.gz PackageFileSize: 1.541 MiB