Package: ggtreeDendro Version: 1.4.0 Command: /home/biocbuild/bbs-3.18-bioc/R/bin/R CMD check --install=check:ggtreeDendro.install-out.txt --library=/home/biocbuild/bbs-3.18-bioc/R/site-library --timings ggtreeDendro_1.4.0.tar.gz StartedAt: 2024-04-15 23:18:21 -0400 (Mon, 15 Apr 2024) EndedAt: 2024-04-15 23:19:09 -0400 (Mon, 15 Apr 2024) EllapsedTime: 48.4 seconds RetCode: 0 Status: OK CheckDir: ggtreeDendro.Rcheck Warnings: 0