Package: ggtreeDendro Version: 1.4.0 Command: /home/biocbuild/bbs-3.18-bioc/R/bin/R CMD build --keep-empty-dirs --no-resave-data ggtreeDendro StartedAt: 2024-04-15 17:17:48 -0400 (Mon, 15 Apr 2024) EndedAt: 2024-04-15 17:17:59 -0400 (Mon, 15 Apr 2024) EllapsedTime: 11.3 seconds RetCode: 0 Status: OK PackageFile: ggtreeDendro_1.4.0.tar.gz PackageFileSize: 257.6 KiB