Package: ggtreeDendro Version: 1.4.0 Command: /Library/Frameworks/R.framework/Resources/bin/R CMD INSTALL ggtreeDendro StartedAt: 2024-04-15 15:39:09 -0400 (Mon, 15 Apr 2024) EndedAt: 2024-04-15 15:39:21 -0400 (Mon, 15 Apr 2024) EllapsedTime: 11.8 seconds RetCode: 0 Status: OK