Package: ggtreeDendro Version: 1.4.0 Command: rm -rf ggtreeDendro.buildbin-libdir && mkdir ggtreeDendro.buildbin-libdir && /Users/biocbuild/BBS/utils/build-universal.sh ggtreeDendro_1.4.0.tar.gz /Library/Frameworks/R.framework/Resources/bin/R ggtreeDendro.buildbin-libdir StartedAt: 2024-04-16 11:50:30 -0400 (Tue, 16 Apr 2024) EndedAt: 2024-04-16 11:50:47 -0400 (Tue, 16 Apr 2024) EllapsedTime: 17.3 seconds RetCode: 0 Status: OK PackageFile: ggtreeDendro_1.4.0.tgz PackageFileSize: 431.5 KiB