Package: ggtree Version: 3.10.1 Command: rm -rf ggtree.buildbin-libdir && mkdir ggtree.buildbin-libdir && F:\biocbuild\bbs-3.18-bioc\R\bin\R.exe CMD INSTALL --build --library=ggtree.buildbin-libdir ggtree_3.10.1.tar.gz StartedAt: 2024-04-16 07:05:16 -0400 (Tue, 16 Apr 2024) EndedAt: 2024-04-16 07:05:49 -0400 (Tue, 16 Apr 2024) EllapsedTime: 33.4 seconds RetCode: 0 Status: OK PackageFile: ggtree_3.10.1.zip PackageFileSize: 902.2 KiB