Package: ggtree Version: 3.10.0 Command: /home/biocbuild/R/R-4.3.1/bin/R CMD INSTALL ggtree StartedAt: 2023-11-01 20:19:30 -0000 (Wed, 01 Nov 2023) EndedAt: 2023-11-01 20:19:44 -0000 (Wed, 01 Nov 2023) EllapsedTime: 14.3 seconds RetCode: 0 Status: OK