Package: ggsc Version: 1.0.2 Command: chmod a+r ggsc -R && F:\biocbuild\bbs-3.18-bioc\R\bin\R.exe CMD build --keep-empty-dirs --no-resave-data ggsc StartedAt: 2024-04-15 18:47:02 -0400 (Mon, 15 Apr 2024) EndedAt: 2024-04-15 19:02:28 -0400 (Mon, 15 Apr 2024) EllapsedTime: 925.7 seconds RetCode: 0 Status: OK PackageFile: ggsc_1.0.2.tar.gz PackageFileSize: 2.417 MiB