Package: ggsc Version: 1.0.2 Command: /Library/Frameworks/R.framework/Resources/bin/R CMD INSTALL ggsc StartedAt: 2024-04-15 16:12:59 -0400 (Mon, 15 Apr 2024) EndedAt: 2024-04-15 16:14:57 -0400 (Mon, 15 Apr 2024) EllapsedTime: 118.0 seconds RetCode: 0 Status: OK