Package: ggsc Version: 1.0.2 Command: /Library/Frameworks/R.framework/Resources/bin/R CMD build --keep-empty-dirs --no-resave-data ggsc StartedAt: 2024-04-15 19:00:36 -0400 (Mon, 15 Apr 2024) EndedAt: 2024-04-15 19:21:29 -0400 (Mon, 15 Apr 2024) EllapsedTime: 1253.3 seconds RetCode: 0 Status: OK PackageFile: ggsc_1.0.2.tar.gz PackageFileSize: 4.003 MiB