Package: ggsc Version: 1.0.2 Command: /Library/Frameworks/R.framework/Resources/bin/R CMD INSTALL ggsc StartedAt: 2024-03-03 15:33:39 -0500 (Sun, 03 Mar 2024) EndedAt: 2024-03-03 15:34:55 -0500 (Sun, 03 Mar 2024) EllapsedTime: 75.9 seconds RetCode: 0 Status: OK