Package: ggsc Version: 1.0.2 Command: rm -rf ggsc.buildbin-libdir && mkdir ggsc.buildbin-libdir && /Users/biocbuild/BBS/utils/build-universal.sh ggsc_1.0.2.tar.gz /Library/Frameworks/R.framework/Resources/bin/R ggsc.buildbin-libdir StartedAt: 2024-03-04 00:43:41 -0500 (Mon, 04 Mar 2024) EndedAt: 2024-03-04 00:45:01 -0500 (Mon, 04 Mar 2024) EllapsedTime: 79.7 seconds RetCode: 0 Status: OK PackageFile: ggsc_1.0.2.tgz PackageFileSize: 3.404 MiB