Package: ggsc Version: 1.0.2 Command: /home/biocbuild/R/R-4.3.1/bin/R CMD INSTALL ggsc StartedAt: 2023-11-01 20:47:05 -0000 (Wed, 01 Nov 2023) EndedAt: 2023-11-01 20:48:28 -0000 (Wed, 01 Nov 2023) EllapsedTime: 82.9 seconds RetCode: 0 Status: OK