Package: ggmsa Version: 1.8.0 Command: /home/biocbuild/bbs-3.18-bioc/R/bin/R CMD build --keep-empty-dirs --no-resave-data ggmsa StartedAt: 2024-04-15 17:17:10 -0400 (Mon, 15 Apr 2024) EndedAt: 2024-04-15 17:17:40 -0400 (Mon, 15 Apr 2024) EllapsedTime: 29.9 seconds RetCode: 0 Status: OK PackageFile: ggmsa_1.8.0.tar.gz PackageFileSize: 3.435 MiB