Package: ggmsa Version: 1.8.0 Command: rm -rf ggmsa.buildbin-libdir && mkdir ggmsa.buildbin-libdir && /Users/biocbuild/BBS/utils/build-universal.sh ggmsa_1.8.0.tar.gz /Library/Frameworks/R.framework/Resources/bin/R ggmsa.buildbin-libdir StartedAt: 2024-04-16 11:50:15 -0400 (Tue, 16 Apr 2024) EndedAt: 2024-04-16 11:51:09 -0400 (Tue, 16 Apr 2024) EllapsedTime: 54.1 seconds RetCode: 0 Status: OK PackageFile: ggmsa_1.8.0.tgz PackageFileSize: 2.846 MiB