Package: ggmsa Version: 1.8.0 Command: /home/biocbuild/R/R-4.3.1/bin/R CMD build --keep-empty-dirs --no-resave-data ggmsa StartedAt: 2023-11-02 01:36:25 -0000 (Thu, 02 Nov 2023) EndedAt: 2023-11-02 01:37:05 -0000 (Thu, 02 Nov 2023) EllapsedTime: 40.1 seconds RetCode: 0 Status: OK PackageFile: ggmsa_1.8.0.tar.gz PackageFileSize: 3.509 MiB