Package: ggmanh Version: 1.6.0 Command: /home/biocbuild/R/R-4.3.1/bin/R CMD check --install=check:ggmanh.install-out.txt --library=/home/biocbuild/R/R-4.3.1/site-library --no-vignettes --timings ggmanh_1.6.0.tar.gz StartedAt: 2023-11-02 10:57:18 -0000 (Thu, 02 Nov 2023) EndedAt: 2023-11-02 10:58:24 -0000 (Thu, 02 Nov 2023) EllapsedTime: 66.1 seconds RetCode: 0 Status: WARNINGS CheckDir: ggmanh.Rcheck Warnings: 1