Package: ggkegg Version: 1.0.0 Command: /home/biocbuild/R/R-4.3.1/bin/R CMD INSTALL ggkegg StartedAt: 2023-11-01 20:22:15 -0000 (Wed, 01 Nov 2023) EndedAt: 2023-11-01 20:22:51 -0000 (Wed, 01 Nov 2023) EllapsedTime: 36.1 seconds RetCode: 0 Status: OK