Package: ggcyto Version: 1.30.2 Command: /home/biocbuild/bbs-3.18-bioc/R/bin/R CMD check --install=check:ggcyto.install-out.txt --library=/home/biocbuild/bbs-3.18-bioc/R/site-library --timings ggcyto_1.30.2.tar.gz StartedAt: 2024-04-15 23:16:21 -0400 (Mon, 15 Apr 2024) EndedAt: 2024-04-15 23:21:29 -0400 (Mon, 15 Apr 2024) EllapsedTime: 307.2 seconds RetCode: 1 Status: ERROR CheckDir: ggcyto.Rcheck Warnings: NA