Package: ggcyto Version: 1.30.2 Command: /Library/Frameworks/R.framework/Resources/bin/R CMD INSTALL ggcyto StartedAt: 2024-04-15 15:26:16 -0400 (Mon, 15 Apr 2024) EndedAt: 2024-04-15 15:26:52 -0400 (Mon, 15 Apr 2024) EllapsedTime: 35.9 seconds RetCode: 0 Status: OK