Package: ggcyto Version: 1.30.2 Command: rm -rf ggcyto.buildbin-libdir && mkdir ggcyto.buildbin-libdir && /Users/biocbuild/BBS/utils/build-universal.sh ggcyto_1.30.2.tar.gz /Library/Frameworks/R.framework/Resources/bin/R ggcyto.buildbin-libdir StartedAt: 2024-04-16 11:50:11 -0400 (Tue, 16 Apr 2024) EndedAt: 2024-04-16 11:51:25 -0400 (Tue, 16 Apr 2024) EllapsedTime: 74.0 seconds RetCode: 0 Status: OK PackageFile: ggcyto_1.30.2.tgz PackageFileSize: 5.822 MiB