Package: ggcyto Version: 1.30.2 Command: rm -rf ggcyto.buildbin-libdir && mkdir ggcyto.buildbin-libdir && /Users/biocbuild/BBS/utils/build-universal.sh ggcyto_1.30.2.tar.gz /Library/Frameworks/R.framework/Resources/bin/R ggcyto.buildbin-libdir StartedAt: 2024-03-04 00:43:32 -0500 (Mon, 04 Mar 2024) EndedAt: 2024-03-04 00:44:06 -0500 (Mon, 04 Mar 2024) EllapsedTime: 34.1 seconds RetCode: 0 Status: OK PackageFile: ggcyto_1.30.2.tgz PackageFileSize: 3.631 MiB