Package: ggcyto Version: 1.30.0 Command: /home/biocbuild/R/R-4.3.1/bin/R CMD check --install=check:ggcyto.install-out.txt --library=/home/biocbuild/R/R-4.3.1/site-library --no-vignettes --timings ggcyto_1.30.0.tar.gz StartedAt: 2023-11-02 10:56:48 -0000 (Thu, 02 Nov 2023) EndedAt: 2023-11-02 11:00:30 -0000 (Thu, 02 Nov 2023) EllapsedTime: 222.2 seconds RetCode: 0 Status: WARNINGS CheckDir: ggcyto.Rcheck Warnings: 2