Package: ggcyto Version: 1.30.0 Command: /home/biocbuild/R/R-4.3.1/bin/R CMD build --keep-empty-dirs --no-resave-data ggcyto StartedAt: 2023-11-02 01:35:38 -0000 (Thu, 02 Nov 2023) EndedAt: 2023-11-02 01:37:51 -0000 (Thu, 02 Nov 2023) EllapsedTime: 133.2 seconds RetCode: 0 Status: OK PackageFile: ggcyto_1.30.0.tar.gz PackageFileSize: 21 MiB