Package: ggbio Version: 1.50.0 Command: F:\biocbuild\bbs-3.18-bioc\R\bin\R.exe CMD check --no-multiarch --install=check:ggbio.install-out.txt --library=F:\biocbuild\bbs-3.18-bioc\R\library --no-vignettes --timings ggbio_1.50.0.tar.gz StartedAt: 2024-04-16 01:14:50 -0400 (Tue, 16 Apr 2024) EndedAt: 2024-04-16 01:26:12 -0400 (Tue, 16 Apr 2024) EllapsedTime: 681.9 seconds RetCode: 0 Status: WARNINGS CheckDir: ggbio.Rcheck Warnings: 2